BEGIN:VCALENDAR
VERSION:2.0
PRODID:-//KHS Primary School, Erandwane - ECPv6.15.20//NONSGML v1.0//EN
CALSCALE:GREGORIAN
METHOD:PUBLISH
X-WR-CALNAME:KHS Primary School, Erandwane
X-ORIGINAL-URL:https://kaveri.edu.in/khsp
X-WR-CALDESC:Events for KHS Primary School, Erandwane
REFRESH-INTERVAL;VALUE=DURATION:PT1H
X-Robots-Tag:noindex
X-PUBLISHED-TTL:PT1H
BEGIN:VTIMEZONE
TZID:Asia/Kolkata
BEGIN:STANDARD
TZOFFSETFROM:+0530
TZOFFSETTO:+0530
TZNAME:IST
DTSTART:20210101T000000
END:STANDARD
END:VTIMEZONE
BEGIN:VEVENT
DTSTART;VALUE=DATE:20220219
DTEND;VALUE=DATE:20220220
DTSTAMP:20260420T180519
CREATED:20220209T123247Z
LAST-MODIFIED:20220209T123316Z
UID:5541-1645228800-1645315199@kaveri.edu.in
SUMMARY:Shiv Jayanti
DESCRIPTION:
URL:https://kaveri.edu.in/khsp/event/shiv-jayanti/
END:VEVENT
BEGIN:VEVENT
DTSTART;TZID=Asia/Kolkata:20220221T080000
DTEND;TZID=Asia/Kolkata:20220225T170000
DTSTAMP:20260420T180519
CREATED:20220209T123428Z
LAST-MODIFIED:20220209T123428Z
UID:5543-1645430400-1645808400@kaveri.edu.in
SUMMARY:Unit Test-2
DESCRIPTION:
URL:https://kaveri.edu.in/khsp/event/unit-test-2/
END:VEVENT
BEGIN:VEVENT
DTSTART;TZID=Asia/Kolkata:20220226T100000
DTEND;TZID=Asia/Kolkata:20220226T120000
DTSTAMP:20260420T180519
CREATED:20220209T125105Z
LAST-MODIFIED:20220209T125105Z
UID:5545-1645869600-1645876800@kaveri.edu.in
SUMMARY:PTA Meeting-8
DESCRIPTION:
URL:https://kaveri.edu.in/khsp/event/pta-meeting-8/
END:VEVENT
BEGIN:VEVENT
DTSTART;TZID=Asia/Kolkata:20220228T100000
DTEND;TZID=Asia/Kolkata:20220228T163000
DTSTAMP:20260420T180519
CREATED:20220209T133810Z
LAST-MODIFIED:20220209T133818Z
UID:5554-1646042400-1646065800@kaveri.edu.in
SUMMARY:Staff Meeting-Concluding Ceremony of Innovatia Science Day
DESCRIPTION:
URL:https://kaveri.edu.in/khsp/event/staff-meeting-concluding-ceremony-of-innovatia-science-day/
END:VEVENT
END:VCALENDAR