BEGIN:VCALENDAR
VERSION:2.0
PRODID:-//KHS Primary School, Erandwane - ECPv6.15.20//NONSGML v1.0//EN
CALSCALE:GREGORIAN
METHOD:PUBLISH
X-ORIGINAL-URL:https://kaveri.edu.in/khsp
X-WR-CALDESC:Events for KHS Primary School, Erandwane
REFRESH-INTERVAL;VALUE=DURATION:PT1H
X-Robots-Tag:noindex
X-PUBLISHED-TTL:PT1H
BEGIN:VTIMEZONE
TZID:Asia/Kolkata
BEGIN:STANDARD
TZOFFSETFROM:+0530
TZOFFSETTO:+0530
TZNAME:IST
DTSTART:20180101T000000
END:STANDARD
END:VTIMEZONE
BEGIN:VEVENT
DTSTART;TZID=Asia/Kolkata:20190829T093000
DTEND;TZID=Asia/Kolkata:20190829T170000
DTSTAMP:20260422T092852
CREATED:20190801T053151Z
LAST-MODIFIED:20190801T053151Z
UID:3645-1567071000-1567098000@kaveri.edu.in
SUMMARY:National Sports Day
DESCRIPTION:
URL:https://kaveri.edu.in/khsp/event/national-sports-day/
END:VEVENT
END:VCALENDAR