BEGIN:VCALENDAR
VERSION:2.0
PRODID:-//KHS Primary School, Erandwane - ECPv6.15.20//NONSGML v1.0//EN
CALSCALE:GREGORIAN
METHOD:PUBLISH
X-ORIGINAL-URL:https://kaveri.edu.in/khsp
X-WR-CALDESC:Events for KHS Primary School, Erandwane
REFRESH-INTERVAL;VALUE=DURATION:PT1H
X-Robots-Tag:noindex
X-PUBLISHED-TTL:PT1H
BEGIN:VTIMEZONE
TZID:Asia/Kolkata
BEGIN:STANDARD
TZOFFSETFROM:+0530
TZOFFSETTO:+0530
TZNAME:IST
DTSTART:20180101T000000
END:STANDARD
END:VTIMEZONE
BEGIN:VEVENT
DTSTART;VALUE=DATE:20190804
DTEND;VALUE=DATE:20190805
DTSTAMP:20260422T112749
CREATED:20190801T052051Z
LAST-MODIFIED:20190801T052051Z
UID:3629-1564876800-1564963199@kaveri.edu.in
SUMMARY:Intl Friendship Day\, Mindful Parenting Prog.
DESCRIPTION:
URL:https://kaveri.edu.in/khsp/event/intl-friendship-day-mindful-parenting-prog/
END:VEVENT
END:VCALENDAR