BEGIN:VCALENDAR
VERSION:2.0
PRODID:-//KHS Primary School, Erandwane - ECPv6.15.20//NONSGML v1.0//EN
CALSCALE:GREGORIAN
METHOD:PUBLISH
X-WR-CALNAME:KHS Primary School, Erandwane
X-ORIGINAL-URL:https://kaveri.edu.in/khsp
X-WR-CALDESC:Events for KHS Primary School, Erandwane
REFRESH-INTERVAL;VALUE=DURATION:PT1H
X-Robots-Tag:noindex
X-PUBLISHED-TTL:PT1H
BEGIN:VTIMEZONE
TZID:Asia/Kolkata
BEGIN:STANDARD
TZOFFSETFROM:+0530
TZOFFSETTO:+0530
TZNAME:IST
DTSTART:20180101T000000
END:STANDARD
END:VTIMEZONE
BEGIN:VEVENT
DTSTART;TZID=Asia/Kolkata:20190731T090000
DTEND;TZID=Asia/Kolkata:20190731T120000
DTSTAMP:20260422T112628
CREATED:20190805T120220Z
LAST-MODIFIED:20190805T120220Z
UID:3772-1564563600-1564574400@kaveri.edu.in
SUMMARY:Staff Meeting
DESCRIPTION:
URL:https://kaveri.edu.in/khsp/event/staff-meeting-2/
END:VEVENT
END:VCALENDAR