BEGIN:VCALENDAR
VERSION:2.0
PRODID:-//KHS Primary School, Erandwane - ECPv6.15.20//NONSGML v1.0//EN
CALSCALE:GREGORIAN
METHOD:PUBLISH
X-ORIGINAL-URL:https://kaveri.edu.in/khsp
X-WR-CALDESC:Events for KHS Primary School, Erandwane
REFRESH-INTERVAL;VALUE=DURATION:PT1H
X-Robots-Tag:noindex
X-PUBLISHED-TTL:PT1H
BEGIN:VTIMEZONE
TZID:Asia/Kolkata
BEGIN:STANDARD
TZOFFSETFROM:+0530
TZOFFSETTO:+0530
TZNAME:IST
DTSTART:20180101T000000
END:STANDARD
END:VTIMEZONE
BEGIN:VEVENT
DTSTART;TZID=Asia/Kolkata:20190727T100000
DTEND;TZID=Asia/Kolkata:20190727T110000
DTSTAMP:20260422T132545
CREATED:20190805T120140Z
LAST-MODIFIED:20190805T120140Z
UID:3770-1564221600-1564225200@kaveri.edu.in
SUMMARY:Open Hour Executive Committee
DESCRIPTION:
URL:https://kaveri.edu.in/khsp/event/open-hour-executive-committee/
END:VEVENT
END:VCALENDAR