BEGIN:VCALENDAR
VERSION:2.0
PRODID:-//KHS Primary School, Erandwane - ECPv6.15.20//NONSGML v1.0//EN
CALSCALE:GREGORIAN
METHOD:PUBLISH
X-ORIGINAL-URL:https://kaveri.edu.in/khsp
X-WR-CALDESC:Events for KHS Primary School, Erandwane
REFRESH-INTERVAL;VALUE=DURATION:PT1H
X-Robots-Tag:noindex
X-PUBLISHED-TTL:PT1H
BEGIN:VTIMEZONE
TZID:Asia/Kolkata
BEGIN:STANDARD
TZOFFSETFROM:+0530
TZOFFSETTO:+0530
TZNAME:IST
DTSTART:20180101T000000
END:STANDARD
END:VTIMEZONE
BEGIN:VEVENT
DTSTART;TZID=Asia/Kolkata:20190713T090000
DTEND;TZID=Asia/Kolkata:20190713T120000
DTSTAMP:20260422T133324
CREATED:20190805T113440Z
LAST-MODIFIED:20190805T114440Z
UID:3755-1563008400-1563019200@kaveri.edu.in
SUMMARY:GTA Meeting & MPP Program
DESCRIPTION:
URL:https://kaveri.edu.in/khsp/event/gta-meeting-mpp-program/
END:VEVENT
END:VCALENDAR