BEGIN:VCALENDAR
VERSION:2.0
PRODID:-//KHS Primary School, Erandwane - ECPv6.15.20//NONSGML v1.0//EN
CALSCALE:GREGORIAN
METHOD:PUBLISH
X-WR-CALNAME:KHS Primary School, Erandwane
X-ORIGINAL-URL:https://kaveri.edu.in/khsp
X-WR-CALDESC:Events for KHS Primary School, Erandwane
REFRESH-INTERVAL;VALUE=DURATION:PT1H
X-Robots-Tag:noindex
X-PUBLISHED-TTL:PT1H
BEGIN:VTIMEZONE
TZID:Asia/Kolkata
BEGIN:STANDARD
TZOFFSETFROM:+0530
TZOFFSETTO:+0530
TZNAME:IST
DTSTART:20180101T000000
END:STANDARD
END:VTIMEZONE
BEGIN:VEVENT
DTSTART;VALUE=DATE:20190712
DTEND;VALUE=DATE:20190713
DTSTAMP:20260422T132508
CREATED:20190805T113344Z
LAST-MODIFIED:20190805T113344Z
UID:3753-1562889600-1562975999@kaveri.edu.in
SUMMARY:Ashadhi Ekadashi
DESCRIPTION:
URL:https://kaveri.edu.in/khsp/event/ashadhi-ekadashi/
END:VEVENT
END:VCALENDAR